BEGIN:VCALENDAR
VERSION:2.0
PRODID:-//Baga Biga - ECPv6.14.2//NONSGML v1.0//EN
CALSCALE:GREGORIAN
METHOD:PUBLISH
X-ORIGINAL-URL:https://baga-biga.eus
X-WR-CALDESC:Events for Baga Biga
REFRESH-INTERVAL;VALUE=DURATION:PT1H
X-Robots-Tag:noindex
X-PUBLISHED-TTL:PT1H
BEGIN:VTIMEZONE
TZID:Europe/Madrid
BEGIN:DAYLIGHT
TZOFFSETFROM:+0100
TZOFFSETTO:+0200
TZNAME:CEST
DTSTART:20260329T010000
END:DAYLIGHT
BEGIN:STANDARD
TZOFFSETFROM:+0200
TZOFFSETTO:+0100
TZNAME:CET
DTSTART:20261025T010000
END:STANDARD
END:VTIMEZONE
BEGIN:VEVENT
DTSTART;TZID=Europe/Madrid:20260327T191500
DTEND;TZID=Europe/Madrid:20260327T220000
DTSTAMP:20260424T223917
CREATED:20260312T125206Z
LAST-MODIFIED:20260312T125206Z
UID:62953-1774638900-1774648800@baga-biga.eus
SUMMARY:HEITXI + JULIE
DESCRIPTION:
URL:https://baga-biga.eus/event/heitxi-julie-2/
LOCATION:BIRA Kulturgunea (Bilbo)\, Ronda Kalea 2\, Bilbao\, Bizkaia\, 48005\, Spain
ATTACH;FMTTYPE=image/jpeg:https://baga-biga.eus/wp-content/uploads/2026/03/LORALDIA.jpg
END:VEVENT
BEGIN:VEVENT
DTSTART;TZID=Europe/Madrid:20260327T080000
DTEND;TZID=Europe/Madrid:20260327T170000
DTSTAMP:20260424T223917
CREATED:20260121T110005Z
LAST-MODIFIED:20260121T110005Z
UID:62689-1774598400-1774630800@baga-biga.eus
SUMMARY:Heitxi + Julie
DESCRIPTION:
URL:https://baga-biga.eus/event/heitxi-julie/
LOCATION:Bilbo (Bira)
ATTACH;FMTTYPE=image/jpeg:https://baga-biga.eus/wp-content/uploads/2025/03/Diseno-sin-titulo-1-2.jpg
END:VEVENT
BEGIN:VEVENT
DTSTART;VALUE=DATE:20260327
DTEND;VALUE=DATE:20260328
DTSTAMP:20260424T223917
CREATED:20251216T100149Z
LAST-MODIFIED:20251216T102522Z
UID:62420-1774569600-1774655999@baga-biga.eus
SUMMARY:Maloa Brothers
DESCRIPTION:
URL:https://baga-biga.eus/event/maloa-brothers-9/
LOCATION:Madrid
ATTACH;FMTTYPE=image/jpeg:https://baga-biga.eus/wp-content/uploads/2025/12/2.jpg
END:VEVENT
BEGIN:VEVENT
DTSTART;VALUE=DATE:20260321
DTEND;VALUE=DATE:20260322
DTSTAMP:20260424T223917
CREATED:20251216T093641Z
LAST-MODIFIED:20251216T102553Z
UID:62417-1774051200-1774137599@baga-biga.eus
SUMMARY:Maloa Brothers + Xiberoots
DESCRIPTION:
URL:https://baga-biga.eus/event/maloa-brothers-xiberoots/
LOCATION:Donosti
ATTACH;FMTTYPE=image/jpeg:https://baga-biga.eus/wp-content/uploads/2025/12/2.jpg
END:VEVENT
BEGIN:VEVENT
DTSTART;VALUE=DATE:20260319
DTEND;VALUE=DATE:20260320
DTSTAMP:20260424T223917
CREATED:20260129T080957Z
LAST-MODIFIED:20260129T080957Z
UID:62728-1773878400-1773964799@baga-biga.eus
SUMMARY:Haize Arrosa + Mondra
DESCRIPTION:
URL:https://baga-biga.eus/event/haize-arrosa-mondra/
LOCATION:Bilbo (BBK Aretoa)\, Diego Lopez Haroko Kale Nagusia\, 19-21\, Bilbao\, Bizkaia\, 48001\, Spain
ATTACH;FMTTYPE=image/jpeg:https://baga-biga.eus/wp-content/uploads/2025/02/2.jpg
END:VEVENT
BEGIN:VEVENT
DTSTART;TZID=Europe/Madrid:20260314T193000
DTEND;TZID=Europe/Madrid:20260314T213000
DTSTAMP:20260424T223917
CREATED:20260312T122606Z
LAST-MODIFIED:20260312T122606Z
UID:62933-1773516600-1773523800@baga-biga.eus
SUMMARY:MONDRA + HAIZE ARROSA
DESCRIPTION:
URL:https://baga-biga.eus/event/mondra-haize-arrosa/
LOCATION:Bilbo (BBK Aretoa)\, Diego Lopez Haroko Kale Nagusia\, 19-21\, Bilbao\, Bizkaia\, 48001\, Spain
ATTACH;FMTTYPE=image/jpeg:https://baga-biga.eus/wp-content/uploads/2026/03/logo.jpg
END:VEVENT
BEGIN:VEVENT
DTSTART;VALUE=DATE:20260313
DTEND;VALUE=DATE:20260314
DTSTAMP:20260424T223917
CREATED:20260313T104459Z
LAST-MODIFIED:20260313T104459Z
UID:62999-1773360000-1773446399@baga-biga.eus
SUMMARY:AIMAR
DESCRIPTION:
URL:https://baga-biga.eus/event/aimar-12/
LOCATION:Bilbo (BBK Aretoa)\, Diego Lopez Haroko Kale Nagusia\, 19-21\, Bilbao\, Bizkaia\, 48001\, Spain
ATTACH;FMTTYPE=image/jpeg:https://baga-biga.eus/wp-content/uploads/2026/03/AIMAR.jpg
END:VEVENT
BEGIN:VEVENT
DTSTART;VALUE=DATE:20260307
DTEND;VALUE=DATE:20260308
DTSTAMP:20260424T223917
CREATED:20251216T092258Z
LAST-MODIFIED:20251216T102633Z
UID:62412-1772841600-1772927999@baga-biga.eus
SUMMARY:Maloa Brothers
DESCRIPTION:
URL:https://baga-biga.eus/event/maloa-brothers-8/
LOCATION:Salamanca (La chica de ayer)
ATTACH;FMTTYPE=image/jpeg:https://baga-biga.eus/wp-content/uploads/2025/12/2.jpg
END:VEVENT
BEGIN:VEVENT
DTSTART;VALUE=DATE:20260306
DTEND;VALUE=DATE:20260307
DTSTAMP:20260424T223917
CREATED:20251216T091849Z
LAST-MODIFIED:20251216T102808Z
UID:62408-1772755200-1772841599@baga-biga.eus
SUMMARY:Maloa Brothers
DESCRIPTION:
URL:https://baga-biga.eus/event/maloa-brothers-7/
LOCATION:Valladolid (cientocero)
ATTACH;FMTTYPE=image/jpeg:https://baga-biga.eus/wp-content/uploads/2025/12/2.jpg
END:VEVENT
BEGIN:VEVENT
DTSTART;VALUE=DATE:20260306
DTEND;VALUE=DATE:20260307
DTSTAMP:20260424T223917
CREATED:20251216T091646Z
LAST-MODIFIED:20251216T091646Z
UID:62403-1772755200-1772841599@baga-biga.eus
SUMMARY:Mogombo Brass Band
DESCRIPTION:
URL:https://baga-biga.eus/event/mogombo-brass-band/
LOCATION:Zamudio
ATTACH;FMTTYPE=image/jpeg:https://baga-biga.eus/wp-content/uploads/2025/12/WhatsApp-Image-2024-02-22-at-13.00.36-1.jpeg
END:VEVENT
BEGIN:VEVENT
DTSTART;VALUE=DATE:20260228
DTEND;VALUE=DATE:20260301
DTSTAMP:20260424T223917
CREATED:20251216T084149Z
LAST-MODIFIED:20251216T103311Z
UID:62399-1772236800-1772323199@baga-biga.eus
SUMMARY:Maloa Brothers
DESCRIPTION:
URL:https://baga-biga.eus/event/maloa-brothers-6/
LOCATION:Gasteiz
ATTACH;FMTTYPE=image/jpeg:https://baga-biga.eus/wp-content/uploads/2025/12/2.jpg
END:VEVENT
BEGIN:VEVENT
DTSTART;VALUE=DATE:20260221
DTEND;VALUE=DATE:20260222
DTSTAMP:20260424T223917
CREATED:20260119T112831Z
LAST-MODIFIED:20260119T112904Z
UID:62662-1771632000-1771718399@baga-biga.eus
SUMMARY:OINUTSIK
DESCRIPTION:
URL:https://baga-biga.eus/event/oinutsik/
LOCATION:Bizkaia
ATTACH;FMTTYPE=image/jpeg:https://baga-biga.eus/wp-content/uploads/2026/01/Denboraldi-berrirako-prest-🔥Gu-irrikitan-gaude-🤩kontratazioa@erromeriak.eus_.jpg
END:VEVENT
BEGIN:VEVENT
DTSTART;VALUE=DATE:20260220
DTEND;VALUE=DATE:20260221
DTSTAMP:20260424T223917
CREATED:20260119T112636Z
LAST-MODIFIED:20260119T112636Z
UID:62658-1771545600-1771631999@baga-biga.eus
SUMMARY:BIDEAN
DESCRIPTION:
URL:https://baga-biga.eus/event/bidean-7/
LOCATION:Sondika
ATTACH;FMTTYPE=image/jpeg:https://baga-biga.eus/wp-content/uploads/2026/01/Erromeria_Bidean_Taldea_web.jpg
END:VEVENT
BEGIN:VEVENT
DTSTART;VALUE=DATE:20260220
DTEND;VALUE=DATE:20260221
DTSTAMP:20260424T223917
CREATED:20260119T112311Z
LAST-MODIFIED:20260119T112311Z
UID:62654-1771545600-1771631999@baga-biga.eus
SUMMARY:MALOA BROTHERS
DESCRIPTION:
URL:https://baga-biga.eus/event/maloa-brothers-11/
LOCATION:Miranda De Ebro (Sala La Madre)
ATTACH;FMTTYPE=image/jpeg:https://baga-biga.eus/wp-content/uploads/2025/03/Diseno-sin-titulo-1-1.jpg
END:VEVENT
BEGIN:VEVENT
DTSTART;VALUE=DATE:20260215
DTEND;VALUE=DATE:20260216
DTSTAMP:20260424T223917
CREATED:20251216T083535Z
LAST-MODIFIED:20251216T083535Z
UID:62395-1771113600-1771199999@baga-biga.eus
SUMMARY:Sorotan Bele Gogoan
DESCRIPTION:
URL:https://baga-biga.eus/event/sorotan-bele-gogoan-32/
LOCATION:Hernani
ATTACH;FMTTYPE=image/jpeg:https://baga-biga.eus/wp-content/uploads/2025/03/sorotan-bele-gogoan-1-1.jpg
END:VEVENT
BEGIN:VEVENT
DTSTART;VALUE=DATE:20260214
DTEND;VALUE=DATE:20260215
DTSTAMP:20260424T223917
CREATED:20260129T075925Z
LAST-MODIFIED:20260129T075925Z
UID:62720-1771027200-1771113599@baga-biga.eus
SUMMARY:Oihan Vega + Oinutsik
DESCRIPTION:
URL:https://baga-biga.eus/event/oihan-vega-oinutsik/
LOCATION:Zamudio
ATTACH;FMTTYPE=image/jpeg:https://baga-biga.eus/wp-content/uploads/2026/01/Hb8bgNIK_400x400.jpg
END:VEVENT
BEGIN:VEVENT
DTSTART;VALUE=DATE:20260214
DTEND;VALUE=DATE:20260215
DTSTAMP:20260424T223917
CREATED:20251216T083422Z
LAST-MODIFIED:20251216T083422Z
UID:62392-1771027200-1771113599@baga-biga.eus
SUMMARY:Zirkinik Bez
DESCRIPTION:
URL:https://baga-biga.eus/event/zirkinik-bez-59/
LOCATION:Zornotza
ATTACH;FMTTYPE=image/jpeg:https://baga-biga.eus/wp-content/uploads/2025/03/zirkinikbez.jpg
END:VEVENT
BEGIN:VEVENT
DTSTART;VALUE=DATE:20260207
DTEND;VALUE=DATE:20260208
DTSTAMP:20260424T223917
CREATED:20251216T083253Z
LAST-MODIFIED:20251216T113033Z
UID:62389-1770422400-1770508799@baga-biga.eus
SUMMARY:Maloa Brothers
DESCRIPTION:
URL:https://baga-biga.eus/event/maloa-brothers-5/
LOCATION:Atarrabia – Nafarroa (Totem Aretoa)
ATTACH;FMTTYPE=image/jpeg:https://baga-biga.eus/wp-content/uploads/2025/12/2.jpg
END:VEVENT
BEGIN:VEVENT
DTSTART;VALUE=DATE:20260206
DTEND;VALUE=DATE:20260207
DTSTAMP:20260424T223917
CREATED:20251216T083057Z
LAST-MODIFIED:20251216T083157Z
UID:62382-1770336000-1770422399@baga-biga.eus
SUMMARY:Euskorleans Dixie Band
DESCRIPTION:
URL:https://baga-biga.eus/event/euskorleand-dixie-band/
LOCATION:Zamudio
ATTACH;FMTTYPE=image/jpeg:https://baga-biga.eus/wp-content/uploads/2025/12/EUSKORLEANS-1-1180x800-1.jpg
END:VEVENT
BEGIN:VEVENT
DTSTART;TZID=Europe/Madrid:20260131T080000
DTEND;TZID=Europe/Madrid:20260131T170000
DTSTAMP:20260424T223917
CREATED:20251216T080152Z
LAST-MODIFIED:20251216T112958Z
UID:62376-1769846400-1769878800@baga-biga.eus
SUMMARY:Maloa Brothers
DESCRIPTION:
URL:https://baga-biga.eus/event/maloa-brothers-4/
LOCATION:Tafalla
ATTACH;FMTTYPE=image/jpeg:https://baga-biga.eus/wp-content/uploads/2025/12/2.jpg
END:VEVENT
BEGIN:VEVENT
DTSTART;VALUE=DATE:20260130
DTEND;VALUE=DATE:20260131
DTSTAMP:20260424T223917
CREATED:20251216T080035Z
LAST-MODIFIED:20251216T112805Z
UID:62372-1769731200-1769817599@baga-biga.eus
SUMMARY:Maloa Brothers
DESCRIPTION:
URL:https://baga-biga.eus/event/maloa-brothers-3/
LOCATION:Barcelona (Almo2bar)
ATTACH;FMTTYPE=image/jpeg:https://baga-biga.eus/wp-content/uploads/2025/12/2.jpg
END:VEVENT
BEGIN:VEVENT
DTSTART;VALUE=DATE:20260129
DTEND;VALUE=DATE:20260130
DTSTAMP:20260424T223917
CREATED:20251216T075939Z
LAST-MODIFIED:20251216T075939Z
UID:62369-1769644800-1769731199@baga-biga.eus
SUMMARY:Haize Arrosa
DESCRIPTION:
URL:https://baga-biga.eus/event/haize-arrosa-18/
LOCATION:Bilbo (BBK Aretoa)\, Diego Lopez Haroko Kale Nagusia\, 19-21\, Bilbao\, Bizkaia\, 48001\, Spain
ATTACH;FMTTYPE=image/jpeg:https://baga-biga.eus/wp-content/uploads/2025/02/Diseno-sin-titulo-2-1.jpg
END:VEVENT
BEGIN:VEVENT
DTSTART;VALUE=DATE:20260124
DTEND;VALUE=DATE:20260125
DTSTAMP:20260424T223917
CREATED:20251216T075809Z
LAST-MODIFIED:20251216T075809Z
UID:62365-1769212800-1769299199@baga-biga.eus
SUMMARY:Vazkez + Zilibito Records
DESCRIPTION:
URL:https://baga-biga.eus/event/vazkez-zilibito-records/
LOCATION:Larrabetzu («Hori Bai» Gaztetxea)
ATTACH;FMTTYPE=image/jpeg:https://baga-biga.eus/wp-content/uploads/2025/10/IMG_0272.jpg
END:VEVENT
BEGIN:VEVENT
DTSTART;VALUE=DATE:20260124
DTEND;VALUE=DATE:20260125
DTSTAMP:20260424T223917
CREATED:20251210T134012Z
LAST-MODIFIED:20251210T134117Z
UID:62156-1769212800-1769299199@baga-biga.eus
SUMMARY:Haize-Arrosa
DESCRIPTION:
URL:https://baga-biga.eus/event/haize-arrosa-17/
LOCATION:Abadiño-errota kultur etxea
ATTACH;FMTTYPE=image/jpeg:https://baga-biga.eus/wp-content/uploads/2025/12/HAIZE-ARROSA2.jpg
END:VEVENT
BEGIN:VEVENT
DTSTART;TZID=Europe/Madrid:20260123T211500
DTEND;TZID=Europe/Madrid:20260123T221500
DTSTAMP:20260424T223917
CREATED:20260119T112126Z
LAST-MODIFIED:20260119T112126Z
UID:62652-1769202900-1769206500@baga-biga.eus
SUMMARY:VAZKEZ
DESCRIPTION:
URL:https://baga-biga.eus/event/vazkez-2/
LOCATION:Bilbo (7Katu Gaztetxea)
ATTACH;FMTTYPE=image/jpeg:https://baga-biga.eus/wp-content/uploads/2025/10/Vazkez-51.jpeg
END:VEVENT
BEGIN:VEVENT
DTSTART;VALUE=DATE:20260123
DTEND;VALUE=DATE:20260124
DTSTAMP:20260424T223917
CREATED:20251210T133849Z
LAST-MODIFIED:20251210T133849Z
UID:62151-1769126400-1769212799@baga-biga.eus
SUMMARY:Manifa
DESCRIPTION:
URL:https://baga-biga.eus/event/manifa-6/
LOCATION:Gasteiz
ATTACH;FMTTYPE=image/jpeg:https://baga-biga.eus/wp-content/uploads/2025/03/manifa-records.jpg
END:VEVENT
BEGIN:VEVENT
DTSTART;VALUE=DATE:20260117
DTEND;VALUE=DATE:20260118
DTSTAMP:20260424T223917
CREATED:20251217T105249Z
LAST-MODIFIED:20251217T105249Z
UID:62529-1768608000-1768694399@baga-biga.eus
SUMMARY:Zilibito Records + Odei
DESCRIPTION:
URL:https://baga-biga.eus/event/zilibito-records-odei/
LOCATION:Bergara (Gaztetxea)
ATTACH;FMTTYPE=image/jpeg:https://baga-biga.eus/wp-content/uploads/2025/02/zilibito-2.jpg
END:VEVENT
BEGIN:VEVENT
DTSTART;VALUE=DATE:20260117
DTEND;VALUE=DATE:20260118
DTSTAMP:20260424T223917
CREATED:20251216T075643Z
LAST-MODIFIED:20251216T075643Z
UID:62361-1768608000-1768694399@baga-biga.eus
SUMMARY:Oxabi + Ismeder DJ
DESCRIPTION:
URL:https://baga-biga.eus/event/oxabi-ismeder-dj/
LOCATION:Mungia\, Mungia\, Bizkaia\, 48100
ATTACH;FMTTYPE=image/jpeg:https://baga-biga.eus/wp-content/uploads/2025/12/OXABI-Promo-2025-1024x682-1.jpg
END:VEVENT
BEGIN:VEVENT
DTSTART;VALUE=DATE:20260103
DTEND;VALUE=DATE:20260104
DTSTAMP:20260424T223917
CREATED:20251216T075327Z
LAST-MODIFIED:20251216T075327Z
UID:62354-1767398400-1767484799@baga-biga.eus
SUMMARY:La Furia
DESCRIPTION:
URL:https://baga-biga.eus/event/la-furia-39/
LOCATION:Logroño
ATTACH;FMTTYPE=image/jpeg:https://baga-biga.eus/wp-content/uploads/2025/12/LA_FURIA_ARGAZKIA_1.jpg
END:VEVENT
BEGIN:VEVENT
DTSTART;VALUE=DATE:20260103
DTEND;VALUE=DATE:20260104
DTSTAMP:20260424T223917
CREATED:20251210T133638Z
LAST-MODIFIED:20251210T133638Z
UID:62148-1767398400-1767484799@baga-biga.eus
SUMMARY:Vazkez
DESCRIPTION:
URL:https://baga-biga.eus/event/vazkez/
LOCATION:Iruña
ATTACH;FMTTYPE=image/jpeg:https://baga-biga.eus/wp-content/uploads/2025/10/IMG_0272.jpg
END:VEVENT
END:VCALENDAR