BEGIN:VCALENDAR
VERSION:2.0
PRODID:-//Baga Biga - ECPv6.14.2//NONSGML v1.0//EN
CALSCALE:GREGORIAN
METHOD:PUBLISH
X-ORIGINAL-URL:https://baga-biga.eus
X-WR-CALDESC:Events for Baga Biga
REFRESH-INTERVAL;VALUE=DURATION:PT1H
X-Robots-Tag:noindex
X-PUBLISHED-TTL:PT1H
BEGIN:VTIMEZONE
TZID:Europe/Madrid
BEGIN:DAYLIGHT
TZOFFSETFROM:+0100
TZOFFSETTO:+0200
TZNAME:CEST
DTSTART:20260329T010000
END:DAYLIGHT
BEGIN:STANDARD
TZOFFSETFROM:+0200
TZOFFSETTO:+0100
TZNAME:CET
DTSTART:20261025T010000
END:STANDARD
END:VTIMEZONE
BEGIN:VEVENT
DTSTART;TZID=Europe/Madrid:20260411T210000
DTEND;TZID=Europe/Madrid:20260411T230000
DTSTAMP:20260425T001743
CREATED:20260313T113429Z
LAST-MODIFIED:20260407T074433Z
UID:63007-1775941200-1775948400@baga-biga.eus
SUMMARY:ETS
DESCRIPTION:
URL:https://baga-biga.eus/event/etsak/
LOCATION:Palau Sant Jordi (Barcelona)\, Passeig Olímpic\, 5-7\, Barcelona\, Cataluña\, 08038\, Spain
ATTACH;FMTTYPE=image/jpeg:https://baga-biga.eus/wp-content/uploads/2026/03/WhatsApp-Image-2026-04-07-at-09.40.19.jpeg
END:VEVENT
END:VCALENDAR