BEGIN:VCALENDAR
VERSION:2.0
PRODID:-//Baga Biga - ECPv6.14.2//NONSGML v1.0//EN
CALSCALE:GREGORIAN
METHOD:PUBLISH
X-ORIGINAL-URL:https://baga-biga.eus/es/
X-WR-CALDESC:Eventos para Baga Biga
REFRESH-INTERVAL;VALUE=DURATION:PT1H
X-Robots-Tag:noindex
X-PUBLISHED-TTL:PT1H
BEGIN:VTIMEZONE
TZID:Europe/Madrid
BEGIN:DAYLIGHT
TZOFFSETFROM:+0100
TZOFFSETTO:+0200
TZNAME:CEST
DTSTART:20260329T010000
END:DAYLIGHT
BEGIN:STANDARD
TZOFFSETFROM:+0200
TZOFFSETTO:+0100
TZNAME:CET
DTSTART:20261025T010000
END:STANDARD
END:VTIMEZONE
BEGIN:VEVENT
DTSTART;VALUE=DATE:20260516
DTEND;VALUE=DATE:20260517
DTSTAMP:20260424T222308
CREATED:20260416T084245Z
LAST-MODIFIED:20260416T084245Z
UID:63268-1778889600-1778975999@baga-biga.eus
SUMMARY:RALLY48
DESCRIPTION:
URL:https://baga-biga.eus/es/event/rally48-4/
LOCATION:Arrigorriaga\, Arrigorriaga\, Bizkaia\, 48480
ATTACH;FMTTYPE=image/jpeg:https://baga-biga.eus/wp-content/uploads/2026/04/PGH53149-Mejorado-NR.jpg
END:VEVENT
BEGIN:VEVENT
DTSTART;VALUE=DATE:20260516
DTEND;VALUE=DATE:20260517
DTSTAMP:20260424T222308
CREATED:20260416T085805Z
LAST-MODIFIED:20260416T085805Z
UID:63276-1778889600-1778975999@baga-biga.eus
SUMMARY:GORA HERRIA
DESCRIPTION:
URL:https://baga-biga.eus/es/event/gora-herria/
LOCATION:Lapuebla De Labarca\, Lapuebla de Labarca\, Araba\, 01306
ATTACH;FMTTYPE=image/jpeg:https://baga-biga.eus/wp-content/uploads/2026/04/Gora-Herria-1-sin-logo.jpg
END:VEVENT
BEGIN:VEVENT
DTSTART;VALUE=DATE:20260516
DTEND;VALUE=DATE:20260517
DTSTAMP:20260424T222308
CREATED:20260417T085109Z
LAST-MODIFIED:20260417T085109Z
UID:63302-1778889600-1778975999@baga-biga.eus
SUMMARY:XIBEROOTS
DESCRIPTION:
URL:https://baga-biga.eus/es/event/xiberoots-5/
LOCATION:BATBATEAN (Gazteiz)\, Mendizabala\, Gazteiz\, 01007
ATTACH;FMTTYPE=image/jpeg:https://baga-biga.eus/wp-content/uploads/2026/04/batbatean-completo-scaled-1.jpg
END:VEVENT
BEGIN:VEVENT
DTSTART;VALUE=DATE:20260516
DTEND;VALUE=DATE:20260517
DTSTAMP:20260424T222308
CREATED:20260422T102519Z
LAST-MODIFIED:20260422T102519Z
UID:63343-1778889600-1778975999@baga-biga.eus
SUMMARY:MALOA BROTHERS
DESCRIPTION:
URL:https://baga-biga.eus/es/event/maloa-brothers-12/
LOCATION:Basauri\, Pl. San Isidro\, Basauri\, Bizkaia\, 48970
ATTACH;FMTTYPE=image/jpeg:https://baga-biga.eus/wp-content/uploads/2025/03/4.jpg
END:VEVENT
BEGIN:VEVENT
DTSTART;VALUE=DATE:20260522
DTEND;VALUE=DATE:20260523
DTSTAMP:20260424T222308
CREATED:20260417T104203Z
LAST-MODIFIED:20260417T104203Z
UID:63316-1779408000-1779494399@baga-biga.eus
SUMMARY:GORA HERRIA
DESCRIPTION:
URL:https://baga-biga.eus/es/event/gora-herria-2/
LOCATION:Arratzu\, Arratzu\, Bizkaia\, 48383
ATTACH;FMTTYPE=image/jpeg:https://baga-biga.eus/wp-content/uploads/2026/04/Gora-Herria-1-sin-logo.jpg
END:VEVENT
BEGIN:VEVENT
DTSTART;VALUE=DATE:20260523
DTEND;VALUE=DATE:20260524
DTSTAMP:20260424T222308
CREATED:20260424T123317Z
LAST-MODIFIED:20260424T123317Z
UID:63369-1779494400-1779580799@baga-biga.eus
SUMMARY:Xiberoots
DESCRIPTION:
URL:https://baga-biga.eus/es/event/xiberoots-6/
LOCATION:Mithiriña
ATTACH;FMTTYPE=image/jpeg:https://baga-biga.eus/wp-content/uploads/2025/04/Haitian-OLHAGARAYDSC06083.jpg
END:VEVENT
BEGIN:VEVENT
DTSTART;VALUE=DATE:20260523
DTEND;VALUE=DATE:20260524
DTSTAMP:20260424T222308
CREATED:20260424T124340Z
LAST-MODIFIED:20260424T124340Z
UID:63377-1779494400-1779580799@baga-biga.eus
SUMMARY:Moonshine Wagon
DESCRIPTION:
URL:https://baga-biga.eus/es/event/moonshine-wagon/
LOCATION:Fuentes de Valdepero\, Fuentes de Valdepero\, Palencia\, 34419
ATTACH;FMTTYPE=image/jpeg:https://baga-biga.eus/wp-content/uploads/2026/04/MOONSHINE_WAGON_FOTO_2.jpg
END:VEVENT
BEGIN:VEVENT
DTSTART;VALUE=DATE:20260530
DTEND;VALUE=DATE:20260531
DTSTAMP:20260424T222308
CREATED:20260416T113645Z
LAST-MODIFIED:20260416T113645Z
UID:63284-1780099200-1780185599@baga-biga.eus
SUMMARY:SOROTAN BELE GOGOAN
DESCRIPTION:
URL:https://baga-biga.eus/es/event/sorotan-bele-gogoan/
LOCATION:Urretxu\, Urretxu\, Gipuzkoa\, 20700
ATTACH;FMTTYPE=image/jpeg:https://baga-biga.eus/wp-content/uploads/2026/04/sorotan-3.jpg
END:VEVENT
BEGIN:VEVENT
DTSTART;VALUE=DATE:20260530
DTEND;VALUE=DATE:20260531
DTSTAMP:20260424T222308
CREATED:20260422T092208Z
LAST-MODIFIED:20260422T092351Z
UID:63329-1780099200-1780185599@baga-biga.eus
SUMMARY:Eider + Heitxi
DESCRIPTION:
URL:https://baga-biga.eus/es/event/eider-heitxi/
LOCATION:Durango\, Durango\, Bizkaia\, 48200
ATTACH;FMTTYPE=image/png:https://baga-biga.eus/wp-content/uploads/2026/04/HERRIAN_2026-3x5-1.png
END:VEVENT
BEGIN:VEVENT
DTSTART;VALUE=DATE:20260613
DTEND;VALUE=DATE:20260614
DTSTAMP:20260424T222308
CREATED:20260119T112948Z
LAST-MODIFIED:20260119T112948Z
UID:62669-1781308800-1781395199@baga-biga.eus
SUMMARY:MIRARI
DESCRIPTION:
URL:https://baga-biga.eus/es/event/mirari-14/
LOCATION:Urruña\, Urruña\, 64122\, France
ATTACH;FMTTYPE=image/jpeg:https://baga-biga.eus/wp-content/uploads/2025/03/mirari.jpg
END:VEVENT
END:VCALENDAR